BEGIN:VCALENDAR
VERSION:2.0
PRODID:-//Multi Conseils Sécurité - ECPv6.10.0//NONSGML v1.0//EN
CALSCALE:GREGORIAN
METHOD:PUBLISH
X-ORIGINAL-URL:https://mcs-event.com
X-WR-CALDESC:Évènements pour Multi Conseils Sécurité
REFRESH-INTERVAL;VALUE=DURATION:PT1H
X-Robots-Tag:noindex
X-PUBLISHED-TTL:PT1H
BEGIN:VTIMEZONE
TZID:Europe/Paris
BEGIN:DAYLIGHT
TZOFFSETFROM:+0100
TZOFFSETTO:+0200
TZNAME:CEST
DTSTART:20260329T010000
END:DAYLIGHT
BEGIN:STANDARD
TZOFFSETFROM:+0200
TZOFFSETTO:+0100
TZNAME:CET
DTSTART:20261025T010000
END:STANDARD
END:VTIMEZONE
BEGIN:VEVENT
DTSTART;VALUE=DATE:20260418
DTEND;VALUE=DATE:20260420
DTSTAMP:20260421T130451
CREATED:20260313T123951Z
LAST-MODIFIED:20260313T123951Z
UID:3698-1776470400-1776643199@mcs-event.com
SUMMARY:RACING 92 - STADE FRANCAIS PARIS
DESCRIPTION:
URL:https://mcs-event.com/agenda/racing-92-stade-francais-paris/
LOCATION:Paris la défense Arena\, 99 Jard. de l'Arche\, Nanterre\, 92000\, France
CATEGORIES:Rugby
ATTACH;FMTTYPE=image/jpeg:https://mcs-event.com/wp-content/uploads/2026/03/20252026-BANDEAU-SITE-APP-Banniere-moyenne-US-Paysage-56-scaled.jpg
END:VEVENT
BEGIN:VEVENT
DTSTART;VALUE=DATE:20260415
DTEND;VALUE=DATE:20260417
DTSTAMP:20260421T130451
CREATED:20260313T130517Z
LAST-MODIFIED:20260313T130517Z
UID:3728-1776211200-1776383999@mcs-event.com
SUMMARY:GO ENTREPRENEURS
DESCRIPTION:
URL:https://mcs-event.com/agenda/go-entrepreneurs/
LOCATION:Paris la défense Arena\, 99 Jard. de l'Arche\, Nanterre\, 92000\, France
CATEGORIES:SALON
ATTACH;FMTTYPE=image/png:https://mcs-event.com/wp-content/uploads/2026/03/Capture-decran-2026-03-13-140038.png
END:VEVENT
BEGIN:VEVENT
DTSTART;VALUE=DATE:20260411
DTEND;VALUE=DATE:20260412
DTSTAMP:20260421T130451
CREATED:20260313T123840Z
LAST-MODIFIED:20260313T123840Z
UID:3695-1775865600-1775951999@mcs-event.com
SUMMARY:RED STAR - BASTIA
DESCRIPTION:
URL:https://mcs-event.com/agenda/red-star-bastia/
LOCATION:Stade Bauer\, 92 Rue du Dr Bauer\, Saint-Ouen-sur-Seine\, 93400\, France
CATEGORIES:Football
ATTACH;FMTTYPE=image/jpeg:https://mcs-event.com/wp-content/uploads/2026/03/20252026-BANDEAU-SITE-APP-Banniere-moyenne-US-Paysage-55-1-scaled.jpg
END:VEVENT
BEGIN:VEVENT
DTSTART;VALUE=DATE:20260410
DTEND;VALUE=DATE:20260412
DTSTAMP:20260421T130451
CREATED:20260313T124417Z
LAST-MODIFIED:20260313T124417Z
UID:3713-1775779200-1775951999@mcs-event.com
SUMMARY:STADE FRANCAIS PARIS - ?
DESCRIPTION:
URL:https://mcs-event.com/agenda/stade-francais-paris/
LOCATION:Stade Jean Bouin\, 20-40 Av. du Général Sarrail\, Paris\, 75016\, France
CATEGORIES:Rugby
ATTACH;FMTTYPE=image/jpeg:https://mcs-event.com/wp-content/uploads/2026/03/20252026-BANDEAU-SITE-APP-Banniere-moyenne-US-Paysage-60-scaled.jpg
END:VEVENT
BEGIN:VEVENT
DTSTART;VALUE=DATE:20260410
DTEND;VALUE=DATE:20260411
DTSTAMP:20260421T130451
CREATED:20260313T124502Z
LAST-MODIFIED:20260313T124502Z
UID:3716-1775779200-1775865599@mcs-event.com
SUMMARY:PARIS FC - MONACO
DESCRIPTION:
URL:https://mcs-event.com/agenda/paris-fc-monaco/
LOCATION:Stade Jean Bouin\, 20-40 Av. du Général Sarrail\, Paris\, 75016\, France
CATEGORIES:Football
ATTACH;FMTTYPE=image/jpeg:https://mcs-event.com/wp-content/uploads/2026/03/20252026-BANDEAU-SITE-APP-Banniere-moyenne-US-Paysage-65-scaled.jpg
END:VEVENT
BEGIN:VEVENT
DTSTART;VALUE=DATE:20260410
DTEND;VALUE=DATE:20260411
DTSTAMP:20260421T130451
CREATED:20260313T123718Z
LAST-MODIFIED:20260313T123718Z
UID:3692-1775779200-1775865599@mcs-event.com
SUMMARY:CONCERT JOSMAN
DESCRIPTION:
URL:https://mcs-event.com/agenda/concert-josman/
LOCATION:Paris la défense Arena\, 99 Jard. de l'Arche\, Nanterre\, 92000\, France
CATEGORIES:Concert
ATTACH;FMTTYPE=image/png:https://mcs-event.com/wp-content/uploads/2026/03/Capture-decran-2026-03-12-153039.png
END:VEVENT
BEGIN:VEVENT
DTSTART;VALUE=DATE:20260409
DTEND;VALUE=DATE:20260410
DTSTAMP:20260421T130451
CREATED:20260313T124127Z
LAST-MODIFIED:20260313T124127Z
UID:3704-1775692800-1775779199@mcs-event.com
SUMMARY:RED STAR - MONTPELLIER
DESCRIPTION:
URL:https://mcs-event.com/agenda/red-star-montpellier/
LOCATION:Stade Bauer\, 92 Rue du Dr Bauer\, Saint-Ouen-sur-Seine\, 93400\, France
CATEGORIES:Football
ATTACH;FMTTYPE=image/jpeg:https://mcs-event.com/wp-content/uploads/2026/03/20252026-BANDEAU-SITE-APP-Banniere-moyenne-US-Paysage-58-scaled.jpg
END:VEVENT
BEGIN:VEVENT
DTSTART;VALUE=DATE:20260407
DTEND;VALUE=DATE:20260408
DTSTAMP:20260421T130451
CREATED:20260313T123629Z
LAST-MODIFIED:20260313T123629Z
UID:3688-1775520000-1775606399@mcs-event.com
SUMMARY:CHECK! BY CAMPUS PLDA
DESCRIPTION:
URL:https://mcs-event.com/agenda/check-by-campus-plda/
LOCATION:Paris la défense Arena\, 99 Jard. de l'Arche\, Nanterre\, 92000\, France
CATEGORIES:SALON
ATTACH;FMTTYPE=image/png:https://mcs-event.com/wp-content/uploads/2026/03/Capture-decran-2026-03-12-152509.png
END:VEVENT
BEGIN:VEVENT
DTSTART;VALUE=DATE:20260405
DTEND;VALUE=DATE:20260406
DTSTAMP:20260421T130451
CREATED:20260313T124625Z
LAST-MODIFIED:20260313T124625Z
UID:3722-1775347200-1775433599@mcs-event.com
SUMMARY:HAC - AUXERRE
DESCRIPTION:
URL:https://mcs-event.com/agenda/hac-auxerre/
LOCATION:Stade Océane\, Bd de Leningrad\, Le Havre\, 76600\, France
CATEGORIES:Football
ATTACH;FMTTYPE=image/jpeg:https://mcs-event.com/wp-content/uploads/2026/03/20252026-BANDEAU-SITE-APP-Banniere-moyenne-US-Paysage-64-scaled.jpg
END:VEVENT
BEGIN:VEVENT
DTSTART;VALUE=DATE:20260405
DTEND;VALUE=DATE:20260406
DTSTAMP:20260421T130451
CREATED:20260313T124214Z
LAST-MODIFIED:20260313T124214Z
UID:3707-1775347200-1775433599@mcs-event.com
SUMMARY:STADE FRANCAIS PARIS - NEWPORT
DESCRIPTION:
URL:https://mcs-event.com/agenda/stade-francais-paris-newport/
LOCATION:Stade Jean Bouin\, 20-40 Av. du Général Sarrail\, Paris\, 75016\, France
CATEGORIES:Rugby
ATTACH;FMTTYPE=image/jpeg:https://mcs-event.com/wp-content/uploads/2026/03/20252026-BANDEAU-SITE-APP-Banniere-moyenne-US-Paysage-59-scaled.jpg
END:VEVENT
BEGIN:VEVENT
DTSTART;VALUE=DATE:20260327
DTEND;VALUE=DATE:20260330
DTSTAMP:20260421T130451
CREATED:20260211T133037Z
LAST-MODIFIED:20260211T133037Z
UID:3650-1774569600-1774828799@mcs-event.com
SUMMARY:SFP - CLERMONT
DESCRIPTION:
URL:https://mcs-event.com/agenda/sfp-clermont/
LOCATION:Stade Jean Bouin\, 20-40 Av. du Général Sarrail\, Paris\, 75016\, France
CATEGORIES:Rugby
ATTACH;FMTTYPE=image/jpeg:https://mcs-event.com/wp-content/uploads/2026/02/20252026-BANDEAU-SITE-APP-Banniere-moyenne-US-Paysage-52-scaled.jpg
END:VEVENT
BEGIN:VEVENT
DTSTART;VALUE=DATE:20260327
DTEND;VALUE=DATE:20260329
DTSTAMP:20260421T130451
CREATED:20260112T154500Z
LAST-MODIFIED:20260112T154500Z
UID:3620-1774569600-1774742399@mcs-event.com
SUMMARY:ARTUS
DESCRIPTION:
URL:https://mcs-event.com/agenda/artus/
LOCATION:Paris la défense Arena\, 99 Jard. de l'Arche\, Nanterre\, 92000\, France
CATEGORIES:Evènements
ATTACH;FMTTYPE=image/png:https://mcs-event.com/wp-content/uploads/2026/01/affiche-horizontale-pour-la-promotion-des-deux-spectacles-dartus-a-paris-la-defense-arena-au-format-paysage-1024x576-1.png
END:VEVENT
BEGIN:VEVENT
DTSTART;VALUE=DATE:20260320
DTEND;VALUE=DATE:20260323
DTSTAMP:20260421T130451
CREATED:20260211T133748Z
LAST-MODIFIED:20260211T133748Z
UID:3653-1773964800-1774223999@mcs-event.com
SUMMARY:RACING92 - CASTRES
DESCRIPTION:
URL:https://mcs-event.com/agenda/racing92-castres/
LOCATION:Paris la défense Arena\, 99 Jard. de l'Arche\, Nanterre\, 92000\, France
CATEGORIES:Rugby
ATTACH;FMTTYPE=image/jpeg:https://mcs-event.com/wp-content/uploads/2026/02/20252026-BANDEAU-SITE-APP-Banniere-moyenne-US-Paysage-53-scaled.jpg
END:VEVENT
BEGIN:VEVENT
DTSTART;VALUE=DATE:20260320
DTEND;VALUE=DATE:20260323
DTSTAMP:20260421T130451
CREATED:20260211T132026Z
LAST-MODIFIED:20260211T132026Z
UID:3647-1773964800-1774223999@mcs-event.com
SUMMARY:PARIS FC - HAC
DESCRIPTION:
URL:https://mcs-event.com/agenda/paris-fc-hac/
LOCATION:Stade Jean Bouin\, 20-40 Av. du Général Sarrail\, Paris\, 75016\, France
CATEGORIES:Football
ATTACH;FMTTYPE=image/jpeg:https://mcs-event.com/wp-content/uploads/2026/02/20252026-BANDEAU-SITE-APP-Banniere-moyenne-US-Paysage-51-scaled.jpg
END:VEVENT
END:VCALENDAR